Workbook

Sheet Matriz legal finca
A2: RAINFOREST ALLIANCE APPLICABLE LAW ASSESSMENT RA 2020 STANDARD V1.3
G3: For RA use only
A4: Certification body: | B4: KIWA CYD
A5: Country: | B5: Guatemala
A6: Date submitted: | B6: 45352
A7: Contact person: | B7: EDUARDO AGUILERA
A9: Instructions
A10: The Certification Body (CB) should list applicable local laws for all core requirement of the RA 2020 Standard according to the geographic scope requested (the format should include individual legislations for each country). The following is a brief explanation of how to complete the template:
A11: Topic: Include the topic covered in the requirement, for example: Natural Ecosystems, Agrochemicals, etc.
A12: Related standard requirement number: Include the number of the specific related requirement, for example: No. 4.5.1
A13: National Legislation Reference:
A14: Legislation name: Include the name of the national legislation related to the criterion, for example: Labor Code, Decree No. 1441.
A15: ILO convention name (if applicable): If there is an applicable ILO convention, indicate the name of that convention and its respective number. e.g. "ILO Convention, Freedom of Association and Protection of the Right to Organise Convention, 1948 (No. 87)" If there are any sector wide agreements or CBAs that might be relevant, feel free to indicate those as well.
A16: Title: Include the title within the national legislation that refers to the criterion to be evaluated, for example: Contracts and collective bargaining.
A17: Articles to be reviewed: Indicate the # or #s of the articles to be reviewed, with respect to the criterion compliance, for example: Articles 57 to 60.
A18: If RA standard goes beyond the national legislation, please indicate on which areas: please perform an analysis of the applicable legislation and where the RA Standard might go beyond the legislation.
A21: Applicable Law Assessment - Guatemala
A22: Related Topic of the SAS 2020 V1.3 | B22: Related Requirements of the Topic | C22: Description | D22: Law Name | E22: Link | F22: Articles to review | G22: Explanation on how to interpret the requirement in light of the applicable law. | H22: CBA if applicable | I22: ILO convention name (if applicable) | J22: If RA standard goes beyond the national legislation, please indicate on which areas
A23: Capítulo I: Gestión
A24: Gestión | B24: 1.1.1 | C24: La administración del grupo demuestra compromiso hacia la agricultura sostenible, a través de destinar los recursos y el personal adecuados para la aplicación del Estándar para la Agricultura Sostenible de Rainforest Alliance. Al menos cada tres años, la administración del grupo evalúa su capacidad, utilizando la Herramienta de Evaluación de la Capacidad de Administración (Anexo S02). La gerencia obtiene un mínimo de un punto por tema, en la herramienta en el primer año de certificación y demuestra una mejora continua con evaluaciones adicionales. Indicador: • Puntuaciones para cada uno de los temas de la Herramienta de Evaluación de la Capacidad de Gestión Por favor consulte el Anexo S02 SA-G-SD-3 Herramienta de Evaluación de la Capacidad de Gestión Por favor consulte el Documento Guía A SA-G-SD-2 Cómo emplear la Herramienta de Evaluación de la Capacidad de Gestión. | D24: N/A | E24: N/A | F24: N/A | G24: N/A | H24: N/A | I24: N/A | J24: N/A
A25: Gestión | B25: 1.1.2 | C25: La administración del grupo mejora sus capacidades de gestión, e incluye acciones en el Plan de Manejo. Indicador: • Puntuaciones en cada uno de los temas de la Herramienta de Evaluación de la Capacidad de Gestión Por favor consulte onsulte el Documento Guía B SA-G-SD-3 Plantilla del Plan de manejo | D25: N/A | E25: N/A | F25: N/A | G25: N/A | H25: N/A | I25: N/A | J25: N/A
A26: Gestión | B26: 1.1.5 | C26: La gerencia, designa al menos un representante de la gerencia responsable de los siguientes asuntos y forma comité(s) de personas responsables. Un comité puede cubrir más de un asunto: • Mecanismo de quejas (ver 1.5) • Igualdad de género (ver 1.6) • Evaluar y abordar, trabajo infantil, trabajo forzoso, discriminación, violencia y acoso en el trabajo (ver 5.1) El (Los) comité(s): • - Conocen de los problemas y tienen poder de decisión. • Incluir personas responsables que representen a los miembros del grupo de fincas pequeñas, o trabajadores en fincas grandes/operaciones de cadena de suministro, seleccionados por miembros/trabajadores. • Son imparciales, accesibles, sensibles al género y confiables para los miembros/trabajadores del grupo y los grupos vulnerables. • El comité que maneja asuntos de igualdad de género, incluye por lo menos a una mujer. En grupos de fincas pequeñas: puede haber una persona responsable en lugar de (un) comité(s), para género y evaluar y abordar. | D26: Codigo de Trabajo | E26: https://faolex.fao.org/docs/pdf/gua205813.pdf | F26: 60 | G26: El reglamento interior de Trabajo debe comprender (..) f) La designación de las personas del establecimiento ante quienes deben presentarse las peticiones de mejoramiento o reclamos en general y la manera de formular unas y otros. | H26: N/A | I26: N/A | J26: N/A
A27: Administración | B27: 1.2.1 | C27: "La gerencia cumple con la legislación aplicable y los Acuerdos de Negociación Colectiva (ANC) dentro del alcance del Estándar de Agricultura Sostenible de Rainforest Alliance. Si una ley o un ANC aplicable es más estricta(o) que un requisito del estándar, dicha ley o ANC prevalecerá, salvo que la legislación se vuelva obsoleta. En caso de que una ley o un ANC aplicable sea menos estricto que un requisito contenido en el estándar, el requisito del estándar prevalecerá salvo que el requisito permita de manera explícita, que se aplique dicha ley o ANC." | D27: N/A | E27: N/A | F27: N/A | G27: N/A | H27: N/A | I27: N/A | J27: N/A
A28: Administración | B28: 1.2.2 | C28: Hay una lista de los actuales proveedores de servicios, proveedores, intermediarios y subcontratistas. Existen mecanismos para garantizar que cumplan con los requisitos aplicables del Estándar para el trabajo dentro del alcance de la certificación. Para fincas - Esto es válido para el trabajo en campo, el trabajo en procesamiento, y la provisión de mano de obra. - «Proveedores» se refiere únicamente a otras fincas de las que adquieren producto certificado. Por favor consulte el documento de Guía U: Aplicabilidad para los proveedores de servicios | D28: Ley de protección al consumidor y usuario, Decreto Número 06-2003 | E28: https://www.wipo.int/edocs/lexdocs/laws/es/gt/gt033es.pdf | F28: Del 14 al 17 | G28: Sin perjuicio de las contenidas en otras leyes, son obligaciones de los proveedores: a) Cumplir las disposiciones legales que le sean aplicables tanto nacionales como internacionales, derivadas de los convenios o tratados internacionales de los que Guatemala sea parte. b) Respetar la vida, la salud y la seguridad del consumidor o usuario, al proveerle bienes o prestarle servicios. c) Proporcionar la información básica sobre los bienes y servicios que provee. | H28: N/A | I28: N/A | J28: N/A
A29: Administración | B29: 1.2.4 | C29: Se mantiene un registro actualizado de los miembros del grupo que contiene, para cada miembro del grupo, la información necesaria de acuerdo con la plantilla de registro de grupos disponible en la plataforma de certificación Rainforest Alliance. Por favor consulte el Anexo S13, SA-S-SD-14: Registro de los Miembros del Grupo | D29: N/A | E29: N/A | F29: N/A | G29: N/A | H29: N/A | I29: N/A | J29: N/A
A30: Administración | B30: 1.2.5 | C30: Se mantiene una lista actualizada de los trabajadores permanentes y temporales, que contiene para cada trabajador: • Nombre completo • Género • Año de nacimiento • Fechas de inicio y finalización del empleo • Salarios En el caso de trabajadores a los que se proporciona vivienda, el registro además contiene: • La dirección de la vivienda • Número de miembros en la familia • Año de nacimiento de los miembros de la familia En el caso de menores que realicen trabajo liviano (12 a 14 años) y de los trabajadores jóvenes (15 a 17 años), el registro además contiene: • La dirección de la vivienda • Nombre y dirección del (los) padre(s) o del (los) custodio(s) legal(es) • Inscripción escolar (si aplica) • Tipo de trabajo o tareas • El número de horas de trabajo por día y por semana Nota sobre la aplicabilidad: para la certificación de la cadena de suministro, este requisito solo es aplicable a los titulares de certificado que presentan alto riesgo en temas sociales, y por consiguiente, deben cumplir los requisitos del Capítulo 5. Social. | D30: Codigo de Trabajo | E30: https://faolex.fao.org/docs/pdf/gua205813.pdf | F30: 61, 145 | G30: Son obligaciones de los empleadores: Enviar dentro del improrrogable plazo de los dos primeros meses de cada año a la dependencia administrativa correspondiente del Ministerio de Trabajo y Previsión Social, directamente o por medio de las autoridades de trabajo del lugar donde se encuentra la respectiva empresa, un informe impreso que por lo menos debe contener estos datos: 2) Nombres y apellidos de sus trabajadores con expresión de la edad aproximada, nacionalidad, sexo, ocupación, número de días que haya trabajado cada uno y el salario que individualmente les haya correspondido durante dicho año. Los trabajadores agrícolas tienen derecho a habitaciones que reúnan las condiciones higiénicas que fijen los reglamentos de salubridad. Esta disposición debe ser impuesta por el Ministerio de Trabajo y Previsión Social en forma gradual a los patronos que se encuentren en posibilidad económica de cumplir dicha obligación. | H30: N/A | I30: N/A | J30: N/A
A31: Administración | B31: 1.2.6 | C31: En el caso de trabajadores permanentes, se mantienen registros actualizados que contienen, para cada trabajador: • Nombre completo • Género • Año de nacimiento • Salario Los miembros analfabetos del grupo, pueden proporcionar esta información de manera oral. | D31: Codigo de Trabajo | E31: https://faolex.fao.org/docs/pdf/gua205813.pdf | F31: 61 | G31: Son obligaciones de los empleadores: Enviar dentro del improrrogable plazo de los dos primeros meses de cada año a la dependencia administrativa correspondiente del Ministerio de Trabajo y Previsión Social, directamente o por medio de las autoridades de trabajo del lugar donde se encuentra la respectiva empresa, un informe impreso que por lo menos debe contener estos datos: 2) Nombres y apellidos de sus trabajadores con expresión de la edad aproximada, nacionalidad, sexo, ocupación, número de días que haya trabajado cada uno y el salario que individualmente les haya correspondido durante dicho año. | H31: N/A | I31: N/A | J31: N/A
A32: Administración | B32: 1.2.7 | C32: La gerencia asegura que donde sea que el Estándar de Agricultura Sostenible de Rainforest Alliance exija que se informe de los trabajadores o miembros del grupo, la información se proporciona en el (los) idioma(s) de los trabajadores o miembros del grupo. | D32: N/A | E32: N/A | F32: N/A | G32: N/A | H32: N/A | I32: N/A | J32: N/A
A33: Administración | B33: 1.2.8 | C33: Existe un convenio firmado (o con una marca empleada como firma o una huella dactilar) entre el grupo y cada miembro del grupo, que especifica los derechos y obligaciones de cada parte, incluyendo por lo menos: • La obligación del miembro del grupo de cumplir con el Estándar de Agricultura Sostenible de Rainforest Alliance • La obligación del miembro del grupo de aceptar tanto las inspecciones internas como las auditorías externas y las sanciones • La garantía por el miembro del grupo de que cualquier producto vendido como certificado viene únicamente de su finca • El derecho del miembro del grupo de apelar las decisiones tomadas por la administración del grupo, por medio del uso del procedimiento de quejas. • El convenio del miembro del grupo de compartir los datos de la finca de dicho miembro (como datos geográficos, volúmenes, área, etc.) con la administración del grupo y Rainforest Alliance para su uso, publicación y uso compartido dentro de la cadena de suministro como se describe en los términos y condiciones generales de Rainforest Alliance y su Política de Privacidad. Cada miembro del grupo entiende el convenio. Los convenios se archivan en la oficina central y hay una copia disponible para cada miembro del grupo. | D33: N/A | E33: N/A | F33: N/A | G33: N/A | H33: N/A | I33: N/A | J33: N/A
A34: Administración | B34: 1.2.9 | C34: Para propósitos de certificación y cumplimiento, los registros se conservan durante por lo menos cuatro años. | D34: N/A | E34: N/A | F34: N/A | G34: N/A | H34: N/A | I34: N/A | J34: N/A
A35: Administración | B35: 1.2.10 | C35: Se encuentra disponible un mapa actualizado de la finca (fincas grandes) o del área de la finca (grupo de fincas pequeñas), que incluye: • Fincas/unidades de fincas/zonas de producción • Instalaciones de procesamiento • Áreas de presencia humana • Escuelas • Centros médicos /instalaciones de primeros auxilios • Ecosistemas naturales, incluidos cuerpos de agua y bosques, y otra vegetación natural existente • Zonas de amortiguamiento ribereño • Sistemas agroforestales • Áreas protegidas El mapa también incluye áreas de riesgo identificadas en la Evaluación de Riesgos (ver 1.3.1). La fecha de la actualización más reciente se muestra en el mapa. Por favor consulte el Documento Guía C SA-G-SD-4 Cómo crear un mapa de finca. | D35: Ley del Registro de Información Catastral Decreto Número 41-2005 | E35: https://faolex.fao.org/docs/pdf/gua54615.pdf | F35: 25 | G35: El archivo básico del Registro de Información Catastral se integra con los siguientes elementos: a) Diagnóstico de propiedad; b) Fichas de recopilación de información de campo y de registro; c) Material cartográfico y fotográfico con información catastral; d) Actas de verificación de mojones y linderos; e) Planos topográficos autorizados por profesionales o técnicos competentes; | H35: N/A | I35: N/A | J35: N/A
A36: Administración | B36: 1.2.11 | C36: Se cuenta con un bosquejo de la finca, que incluye: • El área de producción del cultivo certificado • Bosques • Cuerpos de agua • Edificaciones | D36: N/A | E36: N/A | F36: N/A | G36: N/A | H36: N/A | I36: N/A | J36: N/A
A37: Administración | B37: 1.2.12 | C37: Para el 100% de las fincas, están disponibles los datos de geolocalización de la unidad de la finca más grande con el cultivo certificado. Por lo menos para el 10% de las fincas, se presenta en forma de polígono GPS. En el caso de todas las demás fincas, se puede presentar en forma de un punto de localización. Por favor consulte el SA-S-SD-19: Anexo del Capítulo 1 Gestión Por favor consulte el Documento Guía D SA-G-SD-5: Requisitos de Datos de Geolocalización y Mapas de Riesgo | D37: Ley del Registro de Información Catastral Decreto Número 41-2005 | E37: https://faolex.fao.org/docs/pdf/gua54615.pdf | F37: 25 | G37: El archivo básico del Registro de Información Catastral se integra con los siguientes elementos: a) Diagnóstico de propiedad; b) Fichas de recopilación de información de campo y de registro; c) Material cartográfico y fotográfico con información catastral; d) Actas de verificación de mojones y linderos; e) Planos topográficos autorizados por profesionales o técnicos competentes; | H37: N/A | I37: N/A | J37: N/A
A38: Administración | B38: 1.2.13 | C38: Está disponible el polígono de la finca. Si la finca tiene múltiples unidades de finca, se proporciona un polígono para cada unidad de la finca. Por favor consulte el Anexo del Capítulo 1 SA-S-SD-19: Gestión Por favor consulte el Documento Guía D SA-G-SD-5: Requisitos de datos de geolocalización y mapas de riesgo | D38: Ley del Registro de Información Catastral Decreto Número 41-2005 | E38: https://faolex.fao.org/docs/pdf/gua54615.pdf | F38: 25 | G38: El archivo básico del Registro de Información Catastral se integra con los siguientes elementos: a) Diagnóstico de propiedad; b) Fichas de recopilación de información de campo y de registro; c) Material cartográfico y fotográfico con información catastral; d) Actas de verificación de mojones y linderos; e) Planos topográficos autorizados por profesionales o técnicos competentes; | H38: N/A | I38: N/A | J38: N/A
A39: Administración | B39: 1.2.14 | C39: Se tienen disponibles los datos de geolocalización para el 100% de las unidades de finca. Por lo menos el 30% se presentan en forma de polígonos. Debe mostrarse el avance anual de los indicadores, correspondientes al objetivo que se debe alcanzar al final del tercer año. Indicador: • % de unidades de finca con datos de geolocalización • % de unidades de finca con polígonos | D39: N/A | E39: N/A | F39: N/A | G39: N/A | H39: N/A | I39: N/A | J39: N/A
A40: Administración | B40: 1.2.15 | C40: Se cuenta con polígonos para el 100% de las unidades de finca. Debe mostrarse avance anual en los indicadores, correspondientes con el objetivo a alcanzar al final del sexto año. Indicador: • % de unidades de finca con datos de geolocalización • % de unidades de finca con polígonos | D40: N/A | E40: N/A | F40: N/A | G40: N/A | H40: N/A | I40: N/A | J40: N/A
A41: Evaluación de los Riegos y Plan de Manejo | B41: 1.3.1 | C41: La gerencia lleva a cabo por lo menos cada tres años, una evaluación de riesgos en relación con los requisitos de este Estándar, utilizando la Herramienta de Evaluación de Riesgos. Si es necesario, se puede revisar y actualizar la evaluación de riesgos anualmente. Las medidas de mitigación de los riesgos se incluyen en el Plan de Manejo. Por favor consulte el Anexo S03 SA-S-SD-4: Herramienta de Evaluación de Riesgos | D41: N/A | E41: N/A | F41: N/A | G41: N/A | H41: N/A | I41: N/A | J41: N/A
A42: Evaluación de los Riegos y Plan de Manejo | B42: 1.3.2 | C42: La gerencia desarrolla un plan de manejo que incluye las metas y acciones basadas en la Evaluación de Riesgos (1.3.1) y la Auto-evaluación (1.4.2) Para el caso de grupos, el plan de manejo además se basa en la Herramienta de Evaluación de la Capacidad de Manejo (1.1.1) y en la inspección interna (1.4.1). La gerencia, informa sobre la implementación del plan de manejo anualmente. El plan de manejo se actualiza anualmente. Por favor consulte el Documento Guía B: Plantilla del Plan de manejo | D42: N/A | E42: N/A | F42: N/A | G42: N/A | H42: N/A | I42: N/A | J42: N/A
A43: Evaluación de los Riegos y Plan de Manejo | B43: 1.3.3 | C43: La administración proporciona a los miembros del grupo los servicios basados en el Plan de manejo. Los servicios pueden incluir capacitación, asistencia técnica, apoyo en la documentación de registros, acceso a insumos (por ej. plántulas), actividades de sensibilización, etc. La administración documenta los servicios proporcionados. Indicadores: • # de actividades de capacitación proporcionadas a los miembros • Temas de las actividades de capacitación • # y % de los miembros que asisten a las actividades de capacitación (H/M) • # y tipo de servicios (aparte de la capacitación) proporcionados a los miembros | D43: N/A | E43: N/A | F43: N/A | G43: N/A | H43: N/A | I43: N/A | J43: N/A
A44: Evaluación de los Riegos y Plan de Manejo | B44: 1.3.4 | C44: La gerencia proporciona a los trabajadores, servicios basados en el plan de manejo. Los servicios pueden incluir capacitación, actividades para crear conciencia, etc. La gerencia documenta los servicios proporcionados. Indicador: • # de actividades de capacitación proporcionadas a los trabajadores • Temas de las actividades de capacitación • # y % de trabajadores que asisten a las actividades de capacitación (H/M) • # y tipo de servicios (aparte de la capacitación) proporcionados a los trabajadores | D44: N/A | E44: N/A | F44: N/A | G44: N/A | H44: N/A | I44: N/A | J44: N/A
...

Sheet Matriz cadena de suministro
A2: RAINFOREST ALLIANCE APPLICABLE LAW ASSESSMENT RA 2020 STANDARD V1.3
H3: For RA use only
A4: Certification body: | B4: KIWA CYD | H4: Date reviewed:
A5: Country: | B5: Guatemala | H5: Reviewed by:
A6: Date submitted: | B6: 45352 | H6: Approved by:
A7: Contact person: | B7: EDUARDO AGUILERA | H7: Date approved:
A9: Instructivos
A10: The Certification Body (CB) should list applicable local laws for all core requirement of the RA 2020 Standard according to the geographic scope requested (the format should include individual legislations for each country). The following is a brief explanation of how to complete the template:
A11: Topic: Include the topic covered in the requirement, for example: Natural Ecosystems, Agrochemicals, etc.
A12: Related standard requirement number: Include the number of the specific related requirement, for example: No. 4.5.1
A13: National Legislation Reference:
A14: Legislation name: Include the name of the national legislation related to the criterion, for example: Labor Code, Decree No. 1441.
A15: ILO convention name (if applicable): If there is an applicable ILO convention, indicate the name of that convention and its respective number. e.g. "ILO Convention, Freedom of Association and Protection of the Right to Organise Convention, 1948 (No. 87)" If there are any sector wide agreements or CBAs that might be relevant, feel free to indicate those as well.
A16: Title: Include the title within the national legislation that refers to the criterion to be evaluated, for example: Contracts and collective bargaining.
A17: Articles to be reviewed: Indicate the # or #s of the articles to be reviewed, with respect to the criterion compliance, for example: Articles 57 to 60.
A18: If RA standard goes beyond the national legislation, please indicate on which areas: please perform an analysis of the applicable legislation and where the RA Standard might go beyond the legislation.
A20: Applicable Law Assessment - Guatemala
A21: Related Topic of the SAS 2020 V1.3 | B21: Related Requirements of the Topic | C21: Description | D21: Law Name | E21: Link | F21: Articles to review | G21: Explanation on how to interpret the requirement in light of the applicable law. | H21: CBA if applicable | I21: ILO convention name (if applicable) | J21: If RA standard goes beyond the national legislation, please indicate on which areas
A22: Capítulo I: Gestión
A23: Gestión | B23: 1.1.3 | C23: Hay un plan de manejo claro, bien documentado e implementado que aborda cada uno de los requisitos de la Cadena de Suministro de Rainforest Alliance aplicables. Los procedimientos documentados incluyen el control de los productos certificados para todos los procesos aplicables incluidos en el alcance del certificado, para mantener la integridad del producto. | D23: N/A | E23: N/A | F23: N/A | G23: N/A | H23: N/A | I23: N/A | J23: N/A
A24: Gestión | B24: 1.1.4 | C24: El titular de certificado de la cadena de suministro ha elaborado, adoptado y difundido una o más políticas para asegurar una conducta comercial responsable dentro de sus propias operaciones, la cadena de suministro y otras relaciones comerciales. Las políticas cubren directa e indirectamente los impactos negativos sobre los derechos humanos y el medio ambiente. • Las políticas comprometen y refieren al seguimiento de la Directrices de la Organización para la Cooperación del Desarrollo Económico (OCDE) de Debida Diligencia para una Conducta Empresarial Responsable. Las referencias y compromisos de las Directrices de la OCDE para Empresas Multinacionales y los Principios Rectores sobre las Empresas y los Derechos Humanos de la ONU también pueden considerarse válidos. • La supervisión y responsabilidad de estas políticas y su implementación está asignada al personal directivo superior. • Las políticas y sus correspondientes expectativas se especifican en el compromiso con los proveedores, así como con otras relaciones comerciales, incluyendo contratos y otros acuerdos por escrito. • Una herramienta potencial para el cumplimiento es establecer un código de conducta para los proveedores. • Como mínimo, esta política exige lo siguiente a los titulares de certificado de cadena de suministro, sus proveedores y otras relaciones comerciales: - El cumplimiento de las leyes aplicables y de los estándares relevantes en materia de derechos humanos, derechos y condiciones laborales, salud y seguridad - El cumplimiento de las leyes aplicables y de los estándares relevantes en materia de protección del medio ambiente, deforestación, biodiversidad, manejo de desechos y aguas residuales Para una política modelo para cadenas de suministro agrícolas responsables, consulte la Guía OCDE para la Cadena de Suministro Responsable para el Sector Agrícola, página 25-29.I5 | D24: N/A | E24: N/A | F24: N/A | G24: N/A | H24: N/A | I24: N/A | J24: N/A
A25: Gestión | B25: 1.1.5 | C25: La administración designa al menos a un representante de la administración responsable de los siguientes asuntos y conforma comités de personas responsables. Un comité puede cubrir más de un asunto: • Mecanismo de quejas (consulte 1.5) • Igualdad de género (consulte 1.6) • Evaluar y abordar trabajo infantil, trabajo forzoso, discriminación y violencia y acoso en el trabajo (consulte 5.1) El(los) comité(s): - Es (son) conocedor(es) de los problemas y tienen poder de decisión. - Incluye personas responsables que representen a los miembros del grupo para fincas pequeñas o trabajadores en fincas grandes/operaciones de cadena de suministro, seleccionados por miembros/trabajadores. - Es (son) imparcial(es), accesible(s), sensible(s) al género y confiable(s) para los miembros/trabajadores del grupo y los grupos vulnerables - El comité que maneja asuntos de igualdad de género incluye por lo menos a una mujer En grupos de fincas pequeñas: puede haber una persona responsable en lugar de (un) comité(s) de género y para evaluar y abordar. | D25: Codigo de Trabajo | E25: https://faolex.fao.org/docs/pdf/gua205813.pdf | F25: 60 | G25: El reglamento interior de Trabajo debe comprender (..) f) La designación de las personas del establecimiento ante quienes deben presentarse las peticiones de mejoramiento o reclamos en general y la manera de formular unas y otros. | H25: N/A | I25: N/A | J25: N/A
A26: Administración | B26: 1.2.2 | C26: Hay una lista de los proveedores de servicios, proveedores, intermediarios y subcontratistas actuales. Existen mecanismos para garantizar que cumplan con los requisitos aplicables del Estándar para el trabajo dentro del alcance de la certificación. Para fincas: - Esto es válido para el trabajo en el campo, el trabajo en procesamiento, y la provisión de mano de obra - «Proveedores» se refiere únicamente a otras fincas de las que adquieren producto certificado. Por favor, vea la Guía U: Aplicabilidad a los Proveedores de Servicios | D26: Ley de protección al consumidor y usuario, Decreto Número 06-2003 | E26: https://www.wipo.int/edocs/lexdocs/laws/es/gt/gt033es.pdf | F26: Del 14 al 17 | G26: Sin perjuicio de las contenidas en otras leyes, son obligaciones de los proveedores: a) Cumplir las disposiciones legales que le sean aplicables tanto nacionales como internacionales, derivadas de los convenios o tratados internacionales de los que Guatemala sea parte. b) Respetar la vida, la salud y la seguridad del consumidor o usuario, al proveerle bienes o prestarle servicios. c) Proporcionar la información básica sobre los bienes y servicios que provee. | H26: N/A | I26: N/A | J26: N/A
A27: Administración | B27: 1.2.5 | C27: Se mantiene una lista actualizada de trabajadores permanentes y temporales que contiene, para cada trabajador: • Nombre completo • Género • Año de nacimiento • Fechas de inicio y finalización del empleo • Salario En el caso de trabajadores a los que se proporciona vivienda, el registro además contiene: • La dirección de la vivienda • Número de miembros en la familia • Año de nacimiento de los miembros de la familia En caso de que haya niños (12- 14 años) realizando trabajos ligeros y trabajadores jóvenes (15- 17 años), el registro incluye, además: • La dirección de la vivienda • Nombre y dirección del (de los) padre(s) o del (los) custodio(s) legal(es) • Inscripción escolar (de corresponder) • Tipo de trabajo o tareas • El número de horas de trabajo diarias y semanales Nota sobre la aplicabilidad: para la certificación de cadena de suministro, este requisito es aplicable solamente para los titulares de certificado que presenten un riesgo alto en temas sociales y, por lo tanto, deben cumplir con los requisitos en el capítulo 5. | D27: Codigo de Trabajo | E27: https://faolex.fao.org/docs/pdf/gua205813.pdf | F27: 61, 145 | G27: Son obligaciones de los empleadores: Enviar dentro del improrrogable plazo de los dos primeros meses de cada año a la dependencia administrativa correspondiente del Ministerio de Trabajo y Previsión Social, directamente o por medio de las autoridades de trabajo del lugar donde se encuentra la respectiva empresa, un informe impreso que por lo menos debe contener estos datos: 2) Nombres y apellidos de sus trabajadores con expresión de la edad aproximada, nacionalidad, sexo, ocupación, número de días que haya trabajado cada uno y el salario que individualmente les haya correspondido durante dicho año. Los trabajadores agrícolas tienen derecho a habitaciones que reúnan las condiciones higiénicas que fijen los reglamentos de salubridad. Esta disposición debe ser impuesta por el Ministerio de Trabajo y Previsión Social en forma gradual a los patronos que se encuentren en posibilidad económica de cumplir dicha obligación. | H27: N/A | I27: N/A | J27: N/A
A28: Administración | B28: 1.2.9 | C28: Para propósitos de certificación y cumplimiento, los registros se conservan durante por lo menos cuatro años. | D28: N/A | E28: N/A | F28: N/A | G28: N/A | H28: N/A | I28: N/A | J28: N/A
A29: Administración | B29: 1.2.16 | C29: Hay una lista disponible de trabajadores (h/h) que han sido capacitados y cuentan con los conocimientos y aptitudes para implementar de manera efectiva el plan de manejo de la cadena de suministro. | D29: N/A | E29: N/A | F29: N/A | G29: N/A | H29: N/A | I29: N/A | J29: N/A
A30: Administración | B30: 1.2.17 | C30: El administrador del multi sitio mantiene una lista de los sitios incluidos en el certificado que contiene la siguiente información: Resultado del riesgo, direcciones, alcance y trabajadores responsables de la implementación en dicho sitio. Los formularios de consentimiento son obligatorios en el caso de sitios que no sean de propiedad común, si es aplicable. | D30: N/A | E30: N/A | F30: N/A | G30: N/A | H30: N/A | I30: N/A | J30: N/A
A31: Inspección Interna y Autoevaluación | B31: 1.4.1 | C31: La administración cuenta con un sistema de inspección interno para evaluar anualmente el cumplimiento de todos los actores dentro del alcance de la certificación. El sistema incluye: • Para fincas: fincas de miembros de un grupo, sitios de procesamiento y/o almacenamiento y cualquier otro actor (incluidos subcontratistas, intermediarios, proveedores de servicios). • Para Cadena de Suministro: sitios y subcontratistas Se realiza una inspección interna de todos los actores antes de cada auditoría externa: • En el primer año de la certificación, la inspección interna cubre todos los requisitos aplicables del Estándar En años consecutivos, la inspección interna se basa en la Evaluación de Riesgos (para las fincas, consulte 1.3.1), la inspección interna del año anterior y los resultados de la auditoría externa anterior En el caso de alcance de finca únicamente: existe un sistema de rotación para que cada unidad de finca se inspeccione por lo menos cada 3 años. En el caso de unidades de finca remotas, esto se hace por lo menos cada 6 años. | D31: N/A | E31: N/A | F31: N/A | G31: N/A | H31: N/A | I31: N/A | J31: N/A
A32: Inspección Interna y Autoevaluación | B32: 1.4.2 | C32: Cada año, la administración realiza una autoevaluación para determinar su propio cumplimiento y el de todos los actores de su alcance de la certificación con todos los requisitos del Estándar. La gerencia/administración utiliza los resultados de las inspecciones internas como se establece en 1.4.1. para completar la autoevaluación. | D32: N/A | E32: N/A | F32: N/A | G32: N/A | H32: N/A | I32: N/A | J32: N/A
A33: Inspección Interna y Autoevaluación | B33: 1.4.3 | C33: Está establecido un sistema de aprobación y sanción en relación con el cumplimiento por los miembros del grupo (en el caso de fincas) y/o por los sitios, del Estándar para la Agricultura Sostenible de Rainforest Alliance. El sistema incluye: • Un procedimiento escrito de aprobación y sanción • Un gerente o comité de aprobación y sanción • Un mecanismo para dar seguimiento a las mejoras y a las medidas correctivas • Una decisión sobre el estado de la certificación de cada miembro de un grupo/sitio que se firma y documenta y se incluye en el informe final interno de inspección | D33: N/A | E33: N/A | F33: N/A | G33: N/A | H33: N/A | I33: N/A | J33: N/A
A34: Mecanismos de Quejas | B34: 1.5.1 | C34: Existe un mecanismo de quejas que permite a las personas, los trabajadores, las comunidades y/o la sociedad civil, incluidos los denunciantes, presentar quejas relacionadas con las actividades comerciales del titular del certificado. Las quejas se pueden referir a cualquier parte del Estándar, incluidos aspectos técnicos, sociales o económicos. El mecanismo de quejas puede ser proporcionado por el titular del certificado o por un tercero. El mecanismo de quejas incluye por lo menos los siguientes elementos: • Un comité de quejas (consulte 1.1.5) • El mecanismo de quejas permite la presentación de quejas en cualquier idioma y es accesible para las personas que no puedan leer o que no tengan acceso a Internet. • Se aceptan quejas anónimas y se respeta la confidencialidad • Las quejas sobre derechos humanos y laborales son remediadas de conformidad con el Protocolo de Remediación. • Las quejas y las acciones de seguimiento acordadas se documentan y comparten con las personas involucradas en un plazo de tiempo razonable • A las personas que plantean quejas se les protege del despido/la cancelación de su membresía, de represalias o de amenazas que sean la consecuencia de utilizar el mecanismo de queja Por favor, vea SA-S-SD-23-V1.5 Anexo al Capítulo 5: Social Por favor, consulte el Documento E de la Guía SA-G-SD-6: Mecanismo de Quejas | D34: Codigo de Trabajo | E34: https://faolex.fao.org/docs/pdf/gua205813.pdf | F34: 60 | G34: El reglamento interior de Trabajo debe comprender (..) f) La designación de las personas del establecimiento ante quienes deben presentarse las peticiones de mejoramiento o reclamos en general y la manera de formular unas y otros. | H34: N/A | I34: N/A | J34: N/A
A35: Igualdad de Género | B35: 1.6.1 | C35: La gerencia se compromete a promover la igualdad de género a través de: • Una declaración escrita que se comunica a los miembros del grupo/ a los trabajadores • El nombramiento de un comité responsable de la implementación, seguimiento y evaluación de las medidas que fomentan la igualdad de género y el empoderamiento de las mujeres (consulte 1.1.5). Por favor, consulte el Documento Guía F SA-G-SD-7: Igualdad de Género | D35: Ley de dignificación y promoción integral de la mujer. Constitución Política la República de Guatemala. | E35: https://faolex.fao.org/docs/pdf/gua134317.pdf https://faolex.fao.org/docs/pdf/gua126743.pdf | F35: 6 4 | G35: El Estado, a través de sus órganos y entidades competentes, definirá políticas que desarrollen contenidos y mecanismos mínimos, para prevenir y erradicar la discriminación y la violencia contra las mujeres, promoviendo su dignificación y desarrollo integral. El hombre y la mujer, cualquiera que sea su estado civil, tienen iguales oportunidades y responsabilidades. Ninguna persona puede ser sometida a servidumbre ni a otra condición que menoscabe su dignidad | H35: N/A | I35: N/A | J35: N/A
A36: Igualdad de Género | B36: 1.6.2 | C36: El comité/persona responsable realiza las siguientes actividades: • Adopta medidas que promueven la igualdad de género, siguiendo la Evaluación de Riesgo básica (1.3.1) e incluye estas medidas en el Plan de manejo (1.3.2) • Crea consciencia sobre igualdad de género y el empoderamiento de las mujeres con la administración y el personal (de un grupo) por lo menos anualmente • Participa en casos de remediación relacionados con violencia de género y discriminación por género de conformidad con el Protocolo de Remediación Por favor consulte el Anexo S03 SA-S-SD-4: Herramienta de Evaluación de Riesgos Por favor, vea SA-S-SD-23-V1.5 Anexo al Capítulo 5: Social | D36: Codigo de Trabajo | E36: https://faolex.fao.org/docs/pdf/gua205813.pdf | F36: 151 | G36: Se prohibe a los patronos: a) Anunciar por cualquier medio, sus ofertas de empleo, especificando como requisito para llenar las plazas el sexo, raza, etnia y estado civil de la persona, excepto que por la naturaleza propia del empleo, éste requiera de una persona con determinadas características. En este caso el patrono deberá solicitar autorización ante la Inspección General de Trabajo y la Oficina Nacional de la Mujer. b) Hacer diferencia entre mujeres solteras y casadas y/o con responsabilidades familiares, para los efectos del trabajo. c) Despedir a las trabajadoras que estuvieren en estado de embarazo o período de lactancia, quienes gozan de inamovilidad. | H36: N/A | I36: N/A | J36: N/A
A37: Capítulo II: Trazabilidad
A38: Trazabilidad | B38: 2.1.3 | C38: Los productos certificados se segregan visualmente de los productos no certificados en todas las etapas, incluidas las de transporte, almacenamiento y procesamiento. Esto no es aplicable a productos de balance de masa. | D38: N/A | E38: N/A | F38: N/A | G38: N/A | H38: N/A | I38: N/A | J38: N/A
A39: Trazabilidad | B39: 2.1.4 | C39: La gerencia ha trazado el flujo del producto hasta su ubicación final en el alcance del certificado, incluyendo a todos los intermediarios (puntos de recolección, transporte, unidades de procesamiento, almacenes, etc.) y las actividades efectuadas sobre el producto. | D39: N/A | E39: N/A | F39: N/A | G39: N/A | H39: N/A | I39: N/A | J39: N/A
A40: Trazabilidad | B40: 2.1.6 | C40: Los envíos de productos certificados no superan la producción total (en el caso de las fincas), la compra de productos certificados más los saldos de existencias que quedan del año anterior | D40: N/A | E40: N/A | F40: N/A | G40: N/A | H40: N/A | I40: N/A | J40: N/A
A41: Trazabilidad | B41: 2.1.7 | C41: No se realiza doble venta de volúmenes: los productos vendidos como producto convencional o vendidos a través de otro esquema o iniciativa de sostenibilidad, no se venden como Certificados Rainforest Alliance. Es posible vender productos que están certificados bajo más de un esquema. | D41: N/A | E41: N/A | F41: N/A | G41: N/A | H41: N/A | I41: N/A | J41: N/A
A42: Trazabilidad | B42: 2.1.9 | C42: La metodología correcta para el cálculo de factores de conversión se demuestra y documenta para cada producto certificado y se refleja de manera correspondiente en la plataforma de trazabilidad. Por favor, vea SA-S-SD-20-V1.2 Anexo Capítulo 2: Trazabilidad | D42: N/A | E42: N/A | F42: N/A | G42: N/A | H42: N/A | I42: N/A | J42: N/A
A43: Trazabilidad | B43: 2.1.10 | C43: El equipo empleado para definir el peso o volumen del producto certificado se calibra anualmente. | D43: N/A | E43: N/A | F43: N/A | G43: N/A | H43: N/A | I43: N/A | J43: N/A
...

Sheet Risk Assessment Campo
B1: RAINFOREST ALLIANCE RISK ASSESSMENT 2020 RA STANDARD V1.3
I2: For RA use only
B3: Certification body: | C3: KIWA CYD | I3: Date reviewed:
B4: Country: | C4: Guatemala | I4: Reviewed by:
B5: Date submitted: | C5: 45352 | I5: Approved by:
B6: Contact person: | C6: EDUARDO AGUILERA | I6: Date approved:
B7: (Risk = risks to non-compliance)
B9: Related Topic of the SAS 2020 V1.3 | C9: Related Requirements of the Topic | D9: Description | F9: Risks related to specific… | H9: DESPRECIABLE MENOR MODERADO SINIFICANTE GRAVE | I9: MUY PROBABLE PROBABLE POSIBLE INCREÍBLE MUY IMPROBABLE
E10: Laws | F10: Crop(s) | G10: Region(s) | H10: Severity | I10: Likelihood | J10: Describe the risk | K10: What are the root causes2 | L10: Why is this risk so important? | M10: Interpretation Challenges | N10: Auditing technique to detect & reduce risks
B11: ='Matriz legal finca'!$A23 -> Capítulo I: Gestión
B12: ='Matriz legal finca'!$A24 -> Gestión | C12: ='Matriz legal finca'!$B24 -> 1.1.1 | D12: ='Matriz legal finca'!$C24 -> La administración del grupo demuestra compromiso hacia la agricultura sostenible, a través de destinar los recursos y el personal adecuados para la aplicación del Estándar para la Agricultura Sostenible de Rainforest Alliance. Al menos cada tres años, la administración del grupo evalúa su capacidad, utilizando la Herramienta de Evaluación de la Capacidad de Administración (Anexo S02). La gerencia obtiene un mínimo de un punto por tema, en la herramienta en el primer año de certificación y demuestra una mejora continua con evaluaciones adicionales. Indicador: • Puntuaciones para cada uno de los temas de la Herramienta de Evaluación de la Capacidad de Gestión Por favor consulte el Anexo S02 SA-G-SD-3 Herramienta de Evaluación de la Capacidad de Gestión Por favor consulte el Documento Guía A SA-G-SD-2 Cómo emplear la Herramienta de Evaluación de la Capacidad de Gestión. | E12: ='Matriz legal finca'!$D24 -> N/A | F12: Todos | G12: Todas las regiones | H12: Moderada | I12: Posible | J12: Dificultad para lograr organización en los grupos. Grupos de pequeños productores con deficiencias administrativas. | K12: Para organizaciones campesinas de agricultores es difícil proponer y oficializar una estructura de gobierno y gestión de la organización. Los grupos pequeños pueden tener falta de recursos técnicos y financieros para lograr una adecuada administración. La administracion deficiente puede generar debilidades en capacitacion y control de cumplimiento. | L12: Puede dar paso a discriminación de miembros en cuanto al acceso a beneficios, repartición de ganancias, inclusión o exclusión no transparente de miembros de la organización, así como falta de transparencia y claridad en el diseño e implementación de un sistema de sanciones en relación al cumplimiento de la norma. Al ser un criterio fundamental podría dar como resultado el incumplimiento de la norma. | M12: Puede ser difícil contrastar la evidencia documental (que puede ser incluso inexistente) con la estructura organizativa real. | N12: Revisión documental legalizada. Entrevistas a los miembros de la organización de acuerdo a las reglas de muestreo. Aplicación de auditorías no anunciadas.
B13: ='Matriz legal finca'!$A25 -> Gestión | C13: ='Matriz legal finca'!$B25 -> 1.1.2 | D13: ='Matriz legal finca'!$C25 -> La administración del grupo mejora sus capacidades de gestión, e incluye acciones en el Plan de Manejo. Indicador: • Puntuaciones en cada uno de los temas de la Herramienta de Evaluación de la Capacidad de Gestión Por favor consulte onsulte el Documento Guía B SA-G-SD-3 Plantilla del Plan de manejo | E13: ='Matriz legal finca'!$D25 -> N/A | F13: Todos | G13: Todas las regiones | H13: Significante | I13: Muy improbable | J13: Que no se mida el progreso o no haya. O peor aún que se fabriquen evidencias que no corresponden a la realidad. | K13: Dificultades administrativas, fallas en el sistema de gestión. | L13: Constituye un incumplimiento muy obvio de la norma, puede indicar debilidades mayores. | M13: ¿Cual es el nivel de avance en cumplimiento real? | N13: Revisión documental legalizada. Entrevistas a los miembros de la organización de acuerdo a las reglas de muestreo.
B14: ='Matriz legal finca'!$A26 -> Gestión | C14: ='Matriz legal finca'!$B26 -> 1.1.5 | D14: ='Matriz legal finca'!$C26 -> La gerencia, designa al menos un representante de la gerencia responsable de los siguientes asuntos y forma comité(s) de personas responsables. Un comité puede cubrir más de un asunto: • Mecanismo de quejas (ver 1.5) • Igualdad de género (ver 1.6) • Evaluar y abordar, trabajo infantil, trabajo forzoso, discriminación, violencia y acoso en el trabajo (ver 5.1) El (Los) comité(s): • - Conocen de los problemas y tienen poder de decisión. • Incluir personas responsables que representen a los miembros del grupo de fincas pequeñas, o trabajadores en fincas grandes/operaciones de cadena de suministro, seleccionados por miembros/trabajadores. • Son imparciales, accesibles, sensibles al género y confiables para los miembros/trabajadores del grupo y los grupos vulnerables. • El comité que maneja asuntos de igualdad de género, incluye por lo menos a una mujer. En grupos de fincas pequeñas: puede haber una persona responsable en lugar de (un) comité(s), para género y evaluar y abordar. | E14: ='Matriz legal finca'!$D26 -> Codigo de Trabajo | F14: Todos | G14: Todas las regiones | H14: Moderada | I14: Muy probable | J14: Que no se nombre a una persona o personas adecuadas. O que la division de tareas entre un comité y otro sea difusa. Que el comité esté conformado por personas que no tengan la capacitacion adecuada o la confianza de los trabajadores. En el caso de nombrar un solo responsable que esta persona tenga otros cargos, como recursos humanos o pago de nominas, lo que generaría un conflicto de intereses. Es necesario poner espacila atencion al riesgo particular de la operacion cuando unicamente hay hombres conformando los comites. O si el represetnante es hombre, se debe justificar su capacitacion y capacidades para abordar temas de genero. | K14: Falta de recursos para la capacitacion, cultura que se opone a los principios que debe defender este indicador. | L14: El fallo en estos comites se trae abajo toda la implementacion de evaluar y abordar, lo que puede causar la no certificacion. | M14: Identificar las capacidades del comite y evaluar su efectividad/ aptitud. Saber cuales son las capacitaciones que debe tener el comite o representate y abordar los temas de manera respetuosa pero directa. | N14: Es necesario entrevistar a los trabjadores y miembros de grupo, en especial a grupos vulnerables, es necesario hacer preguntas claras y directas que los miembros de comite deben ser capaces de contestar. Como cual es el procedimiento en caso de una denuncia por violacion? Enfrentarles con esas preguntas fuertes debe revelar si han sido capacitados o no.
B15: ='Matriz legal finca'!$A27 -> Administración | C15: ='Matriz legal finca'!$B27 -> 1.2.1 | D15: ='Matriz legal finca'!$C27 -> "La gerencia cumple con la legislación aplicable y los Acuerdos de Negociación Colectiva (ANC) dentro del alcance del Estándar de Agricultura Sostenible de Rainforest Alliance. Si una ley o un ANC aplicable es más estricta(o) que un requisito del estándar, dicha ley o ANC prevalecerá, salvo que la legislación se vuelva obsoleta. En caso de que una ley o un ANC aplicable sea menos estricto que un requisito contenido en el estándar, el requisito del estándar prevalecerá salvo que el requisito permita de manera explícita, que se aplique dicha ley o ANC." | E15: ='Matriz legal finca'!$D27 -> N/A | F15: Todos | G15: Todas las regiones | H15: Moderada | I15: Posible | J15: Incumplimiento de la legislación nacional y falta de control de las autoridades locales. | K15: El marco legal es pobre, en la mayoría de regiones que no existen CBA que aplicables. El estandar suele ser más estricto que la legislación. | L15: Al ser un criterio fundamental podría dar como resultado el incumplimiento de la norma. | M15: ¿Prevalece la norma sobre la legislación? | N15: Las leyes aplicables se refiere a la normativa social, ambiental, permisos y otras que debe cumplir un operador para su funcionamiento. El equipo auditor deberá ser capacitado sobre estos puntos y en caso de dudas deberá revisar la matriz legal. Si existe una consulta específica que no puede ser resulta contacte al departamento jurídico de Kiwa. En Guatemala la norma de RA suele ser más estricta que la legislación, por lo tanto la norma prevalece.
B16: ='Matriz legal finca'!$A28 -> Administración | C16: ='Matriz legal finca'!$B28 -> 1.2.2 | D16: ='Matriz legal finca'!$C28 -> Hay una lista de los actuales proveedores de servicios, proveedores, intermediarios y subcontratistas. Existen mecanismos para garantizar que cumplan con los requisitos aplicables del Estándar para el trabajo dentro del alcance de la certificación. Para fincas - Esto es válido para el trabajo en campo, el trabajo en procesamiento, y la provisión de mano de obra. - «Proveedores» se refiere únicamente a otras fincas de las que adquieren producto certificado. Por favor consulte el documento de Guía U: Aplicabilidad para los proveedores de servicios | E16: ='Matriz legal finca'!$D28 -> Ley de protección al consumidor y usuario, Decreto Número 06-2003 | F16: Todos | G16: Todas las regiones | H16: Significante | I16: Posible | J16: Incumplimiento de los proveedores de servicios con la legislación nacional y los criterios fundamentales de la norma. Falta de control y monitoreo de proveedores. | K16: Este criterio incluye varios su requisitos, por lo que la falta de cumplimiento de alguno de ellos compromete al criterio, incluso si los otros se cumplen. Dado a que este criterio alude a la identificación y cumplimiento de todas las leyes pertinentes y la norma RA, el riesgo principal está relacionado al incumplimiento de algún su requisito. No todas las operaciones certificadas mantienen un departamento jurídico, lo cual puede dificultar el cumplimiento de un análisis legal. En el caso de pequeños productores, identificar las leyes y cumplir con todas las aplicables es un ejercicio que representa grande dificultad. | L16: Siendo este un criterio fundamental su incumplimiento evitaría la certificación de la operación. Por otra parte el no cumplimiento de una operación certificada podría afectar la imagen de programa. | M16: El "compromiso" puede ser visto como un término subjetivo por lo que su verificación puede ser complicada. La identificación de toda la normativa legal aplicable puede ser compleja si la operación no cuenta con personas con experiencia en el tema, debido a que la ley es difusa. La evaluación a detalle de este criterio puede tomar mucho tiempo al auditor. | N16: Este criterio evalúa en su totalidad el cumplimiento de la normativa RA y nacional, por lo cual se recomienda evaluarlo al final, ya que al verificar el resto de criterios de la norma y el cumplimiento con la legislación nacional, se está evaluando este criterio de manera directa e indirecta. Sin embargo, como se trata en su esencia de un compromiso, se debe tener contacto con la gerencia y la administración de la operación durante la auditoría para poder evaluarlo correctamente. El auditor sigue los lineamientos del departamento jurídico de Kiwa, especialmente los relacionados con la contratación, seguridad y beneficios de los trabajadores así como la protección medio ambiental. Los auditores cuenta con una matriz legal que permitirá identificar las leyes aplicables. Conviene revisar los contratos con proveedores y los mecanismos de control que el productor ejerce sobre sus proveedores.
B17: ='Matriz legal finca'!$A29 -> Administración | C17: ='Matriz legal finca'!$B29 -> 1.2.4 | D17: ='Matriz legal finca'!$C29 -> Se mantiene un registro actualizado de los miembros del grupo que contiene, para cada miembro del grupo, la información necesaria de acuerdo con la plantilla de registro de grupos disponible en la plataforma de certificación Rainforest Alliance. Por favor consulte el Anexo S13, SA-S-SD-14: Registro de los Miembros del Grupo | E17: ='Matriz legal finca'!$D29 -> N/A | F17: Todos | G17: Todas las regiones | H17: Significante | I17: Increible | J17: Existe el riesgo de omitir a algun(os) miembro(s) del grupo, lo que causa que la información del grupo sea inexacta, al igual que el alcance del certificado. | K17: El administrador de grupo realiza un proceso de levantamiento de la información de base inadecuado poco transparente o incompleto. | L17: No se tendría información de la composición real de grupo y por ende los datos del grupo serían inexactos, al igual que su certificado. | M17: ¿Cómo obtener información real de la composición de los miembros del grupo? | N17: Registros de composición del grupo, entrevista con el administrador o gerente del grupo, tomar una muestra significativa del grupo para verificar los datos. Verificación de la relación entre volumenes y áreas productivas.
B18: ='Matriz legal finca'!$A30 -> Administración | C18: ='Matriz legal finca'!$B30 -> 1.2.5 | D18: ='Matriz legal finca'!$C30 -> Se mantiene una lista actualizada de los trabajadores permanentes y temporales, que contiene para cada trabajador: • Nombre completo • Género • Año de nacimiento • Fechas de inicio y finalización del empleo • Salarios En el caso de trabajadores a los que se proporciona vivienda, el registro además contiene: • La dirección de la vivienda • Número de miembros en la familia • Año de nacimiento de los miembros de la familia En el caso de menores que realicen trabajo liviano (12 a 14 años) y de los trabajadores jóvenes (15 a 17 años), el registro además contiene: • La dirección de la vivienda • Nombre y dirección del (los) padre(s) o del (los) custodio(s) legal(es) • Inscripción escolar (si aplica) • Tipo de trabajo o tareas • El número de horas de trabajo por día y por semana Nota sobre la aplicabilidad: para la certificación de la cadena de suministro, este requisito solo es aplicable a los titulares de certificado que presentan alto riesgo en temas sociales, y por consiguiente, deben cumplir los requisitos del Capítulo 5. Social. | E18: ='Matriz legal finca'!$D30 -> Codigo de Trabajo | F18: Todos. | G18: Todas las regiones. | H18: Menor | I18: Posible | J18: Se ha observado en café y banano que hay mano de obra oculta. Se contratan labores a través decontratistas que no reportan a sus trabajadores. Por lo tanto inclimplen la normativa de laboral y de seguridad social. | K18: Poco seguimiento de las entidades regulatorias. Falta de transparencia del productor al utilizar intermediarios de mano de obra informales. | L18: Al ser un criterio fundamental podría dar como resultado el incumplimiento de la norma . | M18: ¿Es necesario que el operador realice el registro de trabajadores permanentes o temporales con un nivel de detalle mayor al solicitado por la legislación? | N18: Al momento de la auditoría deberá incluirse los puntos señalados por la normativa, los mismo que deberán ser verificados en campo por el auditor. Por ejemplo:Incluya en su muestra de entrevistas una amplia gama de labores y areas de la empresa. Verificar a traves de registros de pago que la cantidad de trabajadores a los que se les paga corresponda a la nomina declarada. Se mantiene una lista actualizada de trabajadores permanentes y temporales que contiene, para cada trabajador: Nombre completo, Genero, Año de nacimiento, Fechas de inicio y finalización del empleo. Salarios. Para los trabajadores a los que se proporciona vivienda, el registro contiene adicionalmente: El número de miembros de la familia Para trabajadores jóvenes (15 – 17 años), el registro además contiene: La dirección de la vivienda, Nombre y dirección del (de los) padre(s) o cuidador(es) legal(es), Inscripción en la escuela (de corresponder), Tipo de trabajo o tareas y el número de horas de trabajo diarias y semanal. Para el caso de los trabajadores jóvenes se deberá mantener entrevistas, solicitar registro de liquidaciones de sueldo, pagos en cuenta bancaria, registro de entrada y salida del personal, certificado del colegio o visitar el colegio de ser posible, contrato, registro de labores diarias del personal. Buscar en las nominas de pago, registros de salarios exageradamente altos, que correspondan a trabajo de mas de una persona, que puede indicar que el trabajo de otra persona se está pagando a un lider de grupo o de familia.
B19: ='Matriz legal finca'!$A31 -> Administración | C19: ='Matriz legal finca'!$B31 -> 1.2.6 | D19: ='Matriz legal finca'!$C31 -> En el caso de trabajadores permanentes, se mantienen registros actualizados que contienen, para cada trabajador: • Nombre completo • Género • Año de nacimiento • Salario Los miembros analfabetos del grupo, pueden proporcionar esta información de manera oral. | E19: ='Matriz legal finca'!$D31 -> Codigo de Trabajo | F19: Todos. | G19: Todas las regiones. | H19: Menor | I19: Posible | J19: Se ha observado en café y banano que hay mano de obra oculta. Se contratan labores a través decontratistas que no reportan a sus trabajadores. Por lo tanto inclimplen la normativa de laboral y de seguridad social. | K19: Poco seguimiento de las entidades regulatorias. Falta de transparencia del productor al utilizar intermediarios de mano de obra informales. | L19: Al ser un criterio fundamental podría dar como resultado el incumplimiento de la norma . | M19: ¿Cual es elnumero mínimo para realizar el registro de trabajadores? | N19: La normativa RA no incluye un número mínimo por lo cual debería realizarse a partir de 1 trabajador. Solicite la nómina de los trabajadores, mantenga entrevistas en campo y confirme que los datos de la lista sean coherentes con las entrevistas realizadas. Buscar en las nominas de pago, registros de salarios exageradamente altos, que correspondan al trabajo de mas de una persona, esto puede indicar que el trabajo de otra persona se está pagando a un lider de grupo o de familia.
B20: ='Matriz legal finca'!$A32 -> Administración | C20: ='Matriz legal finca'!$B32 -> 1.2.7 | D20: ='Matriz legal finca'!$C32 -> La gerencia asegura que donde sea que el Estándar de Agricultura Sostenible de Rainforest Alliance exija que se informe de los trabajadores o miembros del grupo, la información se proporciona en el (los) idioma(s) de los trabajadores o miembros del grupo. | E20: ='Matriz legal finca'!$D32 -> N/A | F20: Todos. | G20: Todas las regiones. | H20: Menor | I20: Posible | J20: Aproximadamente un 15% de los trabajadores indígenas en Guatemala no hablan español y las personas en puestos adminstrativos no suelen conocer idiomas mayas. | K20: La gran mayoría de centroamericanos hablan español y los grupos indígenas que conservan su lengua y ademas no hablan español son muy pocos y aislados. Pero muy pocas personas capacitadas para brindar capacitaciones, dar instruccion y generar documentos como contratos, conocen los idiomas oficiales distintos al español. | L20: Es un criterio fundamental , que no siempre puede ser aplicado en todos los documentos de la norma por lo productores. | M20: ¿Qué documentos deben ser traducidos en caso de trabajadores indígenas? ¿Este requisito incluye aspectos legales tales como contratos, liquidaciones de sueldo, entre otros? | N20: En caso de trabajadores indigenas se deberá establecer su origen e idioma. Consultar a la finca como se ha informado sobre los derechos y obligaciones a trabajadores que no hablan español. Mantener entrevista con el personal que no habla español con asistencia de interprete. Revisión documental de contratos , procedimientos de seguridad , capacitaciones y otros pertinentes.
